BEGIN:VCALENDAR
VERSION:2.0
PRODID:-//Chicago Social Butterflies - ECPv6.15.20//NONSGML v1.0//EN
CALSCALE:GREGORIAN
METHOD:PUBLISH
X-ORIGINAL-URL:https://chicagosocialbutterflies.com
X-WR-CALDESC:Events for Chicago Social Butterflies
REFRESH-INTERVAL;VALUE=DURATION:PT1H
X-Robots-Tag:noindex
X-PUBLISHED-TTL:PT1H
BEGIN:VTIMEZONE
TZID:America/Chicago
BEGIN:DAYLIGHT
TZOFFSETFROM:-0600
TZOFFSETTO:-0500
TZNAME:CDT
DTSTART:20240310T080000
END:DAYLIGHT
BEGIN:STANDARD
TZOFFSETFROM:-0500
TZOFFSETTO:-0600
TZNAME:CST
DTSTART:20241103T070000
END:STANDARD
BEGIN:DAYLIGHT
TZOFFSETFROM:-0600
TZOFFSETTO:-0500
TZNAME:CDT
DTSTART:20250309T080000
END:DAYLIGHT
BEGIN:STANDARD
TZOFFSETFROM:-0500
TZOFFSETTO:-0600
TZNAME:CST
DTSTART:20251102T070000
END:STANDARD
BEGIN:DAYLIGHT
TZOFFSETFROM:-0600
TZOFFSETTO:-0500
TZNAME:CDT
DTSTART:20260308T080000
END:DAYLIGHT
BEGIN:STANDARD
TZOFFSETFROM:-0500
TZOFFSETTO:-0600
TZNAME:CST
DTSTART:20261101T070000
END:STANDARD
BEGIN:DAYLIGHT
TZOFFSETFROM:-0600
TZOFFSETTO:-0500
TZNAME:CDT
DTSTART:20270314T080000
END:DAYLIGHT
BEGIN:STANDARD
TZOFFSETFROM:-0500
TZOFFSETTO:-0600
TZNAME:CST
DTSTART:20271107T070000
END:STANDARD
END:VTIMEZONE
BEGIN:VEVENT
DTSTART;TZID=America/Chicago:20260408T190000
DTEND;TZID=America/Chicago:20260408T210000
DTSTAMP:20260420T040145
CREATED:20260326T044235Z
LAST-MODIFIED:20260402T130848Z
UID:10001632-1775674800-1775682000@chicagosocialbutterflies.com
SUMMARY:Country Dancing at Whiskey Girl Tavern
DESCRIPTION:Join us for a fun night of FREE Country Dancing Lessons at Whiskey Girl Tavern! \nEnjoy your drinks and food while learning some fun and easy line dance lessons and some two-stepping with the Second City Outlaws! \nNO COVER!!!
URL:https://chicagosocialbutterflies.com/wp-events/country-dancing-at-whiskey-girl-tavern-3-2/
LOCATION:Whiskey Girl Tavern\, 6318 N Clark St\, Chicago\, IL\, 60660\, United States
CATEGORIES:dance-dj
ATTACH;FMTTYPE=image/png:https://chicagosocialbutterflies.com/wp-content/uploads/2026/03/Country-Dancing-at-Whiskey-Girl.png
END:VEVENT
BEGIN:VEVENT
DTSTART;VALUE=DATE:20260109
DTEND;VALUE=DATE:20260110
DTSTAMP:20260420T040145
CREATED:20251211T050804Z
LAST-MODIFIED:20260106T041019Z
UID:10001053-1767916800-1768003199@chicagosocialbutterflies.com
SUMMARY:Unrivaled Watch Party wiht BIGYAY
DESCRIPTION:BigYAY\, join us January 9th for the ultimate Watch Party at WGT. \nSave The Date – Kate & Leisha will be guest bartending Jan 9th as we kick off Unrivaled Weekend at Whiskey Girl Tavern.
URL:https://chicagosocialbutterflies.com/wp-events/unrivaled-watch-party-wiht-bigyay/
LOCATION:Whiskey Girl Tavern\, 6318 N Clark St\, Chicago\, IL\, 60660\, United States
CATEGORIES:watch-party
ATTACH;FMTTYPE=image/png:https://chicagosocialbutterflies.com/wp-content/uploads/2025/12/bigyay.png
END:VEVENT
BEGIN:VEVENT
DTSTART;TZID=America/Chicago:20251231T190000
DTEND;TZID=America/Chicago:20260101T010000
DTSTAMP:20260420T040145
CREATED:20251212T222958Z
LAST-MODIFIED:20251212T222958Z
UID:10001067-1767207600-1767229200@chicagosocialbutterflies.com
SUMMARY:Moulin Rouge New Year’s Eve
DESCRIPTION:Moulin Rouge themed night at Whiskey Girl Tavern featuring live jazz\, djs and burlesque.
URL:https://chicagosocialbutterflies.com/wp-events/moulin-rouge-new-years-eve/
LOCATION:Whiskey Girl Tavern\, 6318 N Clark St\, Chicago\, IL\, 60660\, United States
CATEGORIES:burlesque,concert-music,dance-dj,watch-party
ATTACH;FMTTYPE=image/jpeg:https://chicagosocialbutterflies.com/wp-content/uploads/2025/12/IMG_5260.jpeg
END:VEVENT
BEGIN:VEVENT
DTSTART;TZID=America/Chicago:20251217T190000
DTEND;TZID=America/Chicago:20251217T210000
DTSTAMP:20260420T040145
CREATED:20251211T050306Z
LAST-MODIFIED:20251211T050312Z
UID:10001056-1765998000-1766005200@chicagosocialbutterflies.com
SUMMARY:Pitch Your Peeps
DESCRIPTION:Take the stage to pitch your (35+) queer friend to others who are interested in finding their match – No dating apps! No swiping! No phones! — Just a slide deck lovingly made by YOU about YOUR hot and consenting baddie of a friend/family member to an audience full of potential connections.
URL:https://chicagosocialbutterflies.com/wp-events/pitch-your-peeps-2/
LOCATION:Whiskey Girl Tavern\, 6318 N Clark St\, Chicago\, IL\, 60660\, United States
CATEGORIES:dating
ATTACH;FMTTYPE=image/png:https://chicagosocialbutterflies.com/wp-content/uploads/2025/12/pitch.png
END:VEVENT
BEGIN:VEVENT
DTSTART;TZID=America/Chicago:20251119T190000
DTEND;TZID=America/Chicago:20251119T210000
DTSTAMP:20260420T040145
CREATED:20251113T194410Z
LAST-MODIFIED:20251119T230139Z
UID:10000977-1763578800-1763586000@chicagosocialbutterflies.com
SUMMARY:Pitch Your Peeps
DESCRIPTION:Pitch Your Peeps:\nQueer Late Bloomers Edition \nWednesday\, Nov. 19th at 7 pm\nat Whiskey Girl Tavern\n6318 N. Clark St \nJoin us for a Slide Deck Queer Late Bloomers Dating event! This will be a fun event hosted by two Chicago based Black and Latinx queer women\, that lets friends take the stage to pitch their (35+) queer friend to others who are interested in finding their match–No dating apps! No swiping! No phones!– Just a slide deck lovingly made by YOU about YOUR hot and consenting baddie of a friend/family member to an audience full of potential connections. \nNot ready to be pitched? That’s ok! We need baddies in the audience too! Bring your wing person to make sure you connect with someone who was pitched. \nFree to attend\, $5 to pitch
URL:https://chicagosocialbutterflies.com/wp-events/pitch-your-peeps/
LOCATION:Whiskey Girl Tavern\, 6318 N Clark St\, Chicago\, IL\, 60660\, United States
CATEGORIES:dating
ATTACH;FMTTYPE=image/png:https://chicagosocialbutterflies.com/wp-content/uploads/2025/09/lgbtq-inclusive.png
END:VEVENT
BEGIN:VEVENT
DTSTART;TZID=America/Chicago:20251107T180000
DTEND;TZID=America/Chicago:20251107T210000
DTSTAMP:20260420T040145
CREATED:20251030T155254Z
LAST-MODIFIED:20251106T034245Z
UID:10000581-1762538400-1762549200@chicagosocialbutterflies.com
SUMMARY:Artemis Singers Karaoke Fundraiser Party
DESCRIPTION:Artemis Singers\, Chicago’s Lesbian Feminist Chorus\, invites you to a Fundraiser Karaoke Party. We are raising funds to support our hosting of Power in Harmony\, the 14th Sister Singers Network (SSN) Choral Festival in July of 2026. This once-every-four-years festival brings together about 20 feminist choruses from across the country to sing\, attend workshops\, perform\, meet hundreds of other singers\, learn new songs\, sing\, attend performances\, and sing some more! \nJoin the karaoke fun on Friday\, November 7 — you can even sing with your favorite Artemis Singer! Chicago local fav DJ Pat will be head of karaoke operations. Food and drinks will be available for purchase. People of all genders are welcome\, and all ages are welcome in the venue until the event ends at 9:00 pm (after that it’s 21+). \nThank you to our hosts\, Whiskey Girl Tavern! Because of their generosity\, 100% of the proceeds will be used to help cover costs for our own 60 members to attend the festival and to make the experience for all choral attendees as special as possible.
URL:https://chicagosocialbutterflies.com/wp-events/artemis-singers-karaoke-fundraiser-party/
LOCATION:Whiskey Girl Tavern\, 6318 N Clark St\, Chicago\, IL\, 60660\, United States
CATEGORIES:concert-music
ATTACH;FMTTYPE=image/jpeg:https://chicagosocialbutterflies.com/wp-content/uploads/2025/10/imgi_10_abn5ui9dRIyK1OKQCRzg.jpeg
END:VEVENT
BEGIN:VEVENT
DTSTART;TZID=America/Chicago:20251101T130000
DTEND;TZID=America/Chicago:20251101T160000
DTSTAMP:20260420T040145
CREATED:20251002T164119Z
LAST-MODIFIED:20251030T153306Z
UID:10000522-1762002000-1762012800@chicagosocialbutterflies.com
SUMMARY:LBTQ Giving Council's Pre-Holiday Pop-Up Market
DESCRIPTION:It is time to start thinking about the holidays! Join the LBTQ Giving Council for an afternoon of fun and retail therapy at the Pre-Holiday Pop-Up Market at Whiskey Girl Tavern in Rogers Park on Saturday\, November 1\, from 1:00 to 4:00 pm. \nThe LBTQ Giving Council is hosting womxn-owned\, LBTQ-owned\, and BIPOC-owned small businesses at the market. Twenty percent of all proceeds will go towards supporting the Council’s grantmaking.
URL:https://chicagosocialbutterflies.com/wp-events/lbtq-giving-councils-pre-holiday-pop-up-market/
LOCATION:Whiskey Girl Tavern\, 6318 N Clark St\, Chicago\, IL\, 60660\, United States
ATTACH;FMTTYPE=image/png:https://chicagosocialbutterflies.com/wp-content/uploads/2025/10/2025-LBTQ-Pre-Holiday-Pop-Up-Graphic-IG-FB-Threads-819x1024-1.png
END:VEVENT
BEGIN:VEVENT
DTSTART;TZID=America/Chicago:20251031T200000
DTEND;TZID=America/Chicago:20251031T233000
DTSTAMP:20260420T040145
CREATED:20251009T164855Z
LAST-MODIFIED:20251030T153015Z
UID:10000549-1761940800-1761953400@chicagosocialbutterflies.com
SUMMARY:A Very Queery Halloween
DESCRIPTION:Welcome to our 2nd annual Queer Halloween Show at Whiskey Girl Tavern for the queers by the queers! Enjoy refreshing cocktails and a night of music\, dancing\, shenanigans\, and costume contest. \n-Door opens at 7pm\, Show starts at 8pm; \n-FREE to attend\, tips welcome\, RSVP preferred; \n-Costume Contest\, winner gets free surprise 🥧 \nMusical performances by Boi & The Ghouls; Coyote Verde & The Wild Pack; \nSideshow by Violet Chaos; \nDJ by Cloud Kiingz
URL:https://chicagosocialbutterflies.com/wp-events/a-very-queery-halloween/
LOCATION:Whiskey Girl Tavern\, 6318 N Clark St\, Chicago\, IL\, 60660\, United States
CATEGORIES:culture,dance-dj
ATTACH;FMTTYPE=image/png:https://chicagosocialbutterflies.com/wp-content/uploads/2025/10/queery.png
END:VEVENT
BEGIN:VEVENT
DTSTART;TZID=America/Chicago:20250720T130000
DTEND;TZID=America/Chicago:20250720T150000
DTSTAMP:20260420T040145
CREATED:20250717T043417Z
LAST-MODIFIED:20250717T043417Z
UID:10000367-1753016400-1753023600@chicagosocialbutterflies.com
SUMMARY:HRC: Queens and Comedy
DESCRIPTION:Sunday\, July 20th\n1:00-3:00 pm CST \nWhiskey Girl Tavern\n6318 N Clark St\nChicago\, IL 60660 \nGet ready for a Sunday Funday of laughter\, glitter\, and fierce performances at Queens and Comedy! Join us on July 20th from 1:00-3:00 pm in Chicago for a dazzling Sunday Funday where the wigs are high\, the jokes are sharp\, and the love is unstoppable. \nHosted by the Human Rights Campaign\, this event brings together some of the city’s finest drag performers and hilarious comedians\, all united in one mission: conquering hate with joy and raising funds for LGBTQ+ equality. Whether you’re a comedy connoisseur\, a drag devotee\, or just someone who loves a good time\, you won’t want to miss this unforgettable evening. \nWhat to Expect: \n🌟 Electrifying Drag Performances\n😂 Gut-Busting Stand-Up Comedy\n💖 An Uplifting Afternoon of Unity and Inclusion
URL:https://chicagosocialbutterflies.com/wp-events/hrc-queens-and-comedy/
LOCATION:Whiskey Girl Tavern\, 6318 N Clark St\, Chicago\, IL\, 60660\, United States
CATEGORIES:comedy,drag
ATTACH;FMTTYPE=image/png:https://chicagosocialbutterflies.com/wp-content/uploads/2025/07/hrc-queens-of-comedy.png
END:VEVENT
END:VCALENDAR