BEGIN:VCALENDAR
VERSION:2.0
PRODID:-//Chicago Social Butterflies - ECPv6.15.20//NONSGML v1.0//EN
CALSCALE:GREGORIAN
METHOD:PUBLISH
X-WR-CALNAME:Chicago Social Butterflies
X-ORIGINAL-URL:https://chicagosocialbutterflies.com
X-WR-CALDESC:Events for Chicago Social Butterflies
REFRESH-INTERVAL;VALUE=DURATION:PT1H
X-Robots-Tag:noindex
X-PUBLISHED-TTL:PT1H
BEGIN:VTIMEZONE
TZID:America/Chicago
BEGIN:DAYLIGHT
TZOFFSETFROM:-0600
TZOFFSETTO:-0500
TZNAME:CDT
DTSTART:20250309T080000
END:DAYLIGHT
BEGIN:STANDARD
TZOFFSETFROM:-0500
TZOFFSETTO:-0600
TZNAME:CST
DTSTART:20251102T070000
END:STANDARD
BEGIN:DAYLIGHT
TZOFFSETFROM:-0600
TZOFFSETTO:-0500
TZNAME:CDT
DTSTART:20260308T080000
END:DAYLIGHT
BEGIN:STANDARD
TZOFFSETFROM:-0500
TZOFFSETTO:-0600
TZNAME:CST
DTSTART:20261101T070000
END:STANDARD
BEGIN:DAYLIGHT
TZOFFSETFROM:-0600
TZOFFSETTO:-0500
TZNAME:CDT
DTSTART:20270314T080000
END:DAYLIGHT
BEGIN:STANDARD
TZOFFSETFROM:-0500
TZOFFSETTO:-0600
TZNAME:CST
DTSTART:20271107T070000
END:STANDARD
END:VTIMEZONE
BEGIN:VEVENT
DTSTART;TZID=America/Chicago:20260424T190000
DTEND;TZID=America/Chicago:20260424T210000
DTSTAMP:20260422T111840
CREATED:20260422T021110Z
LAST-MODIFIED:20260422T021110Z
UID:10001850-1777057200-1777064400@chicagosocialbutterflies.com
SUMMARY:Marbled - A Dramatic Play
DESCRIPTION:This stage play is a queer-positive\, speculative drama on the life of Michelangelo had he lived in our times. See the struggles between Art & Propriety\, Spirituality & Religion\, and Self & Society. \nMickey is a great artist. He is popular\, with commissions from the Church and wealthy benefactors. He is a good friend\, even when Monsignor Humblot (“Gus”) and Mickey’s firebrand assistant\, Thomas Cavallo\, clash.
URL:https://chicagosocialbutterflies.com/wp-events/marbled-a-dramatic-play/2026-04-24/
LOCATION:The Greenhouse Theater Center\, 2257 N. Lincoln Ave.\, Chicago\, IL\, 60614\, United States
CATEGORIES:theater-performance
ATTACH;FMTTYPE=image/jpeg:https://chicagosocialbutterflies.com/wp-content/uploads/2026/04/MARBLED-SIGNAGE-MELANIE-JOE-rotated.jpeg
END:VEVENT
END:VCALENDAR