BEGIN:VCALENDAR
VERSION:2.0
PRODID:-//Chicago Social Butterflies - ECPv6.15.20//NONSGML v1.0//EN
CALSCALE:GREGORIAN
METHOD:PUBLISH
X-WR-CALNAME:Chicago Social Butterflies
X-ORIGINAL-URL:https://chicagosocialbutterflies.com
X-WR-CALDESC:Events for Chicago Social Butterflies
REFRESH-INTERVAL;VALUE=DURATION:PT1H
X-Robots-Tag:noindex
X-PUBLISHED-TTL:PT1H
BEGIN:VTIMEZONE
TZID:America/Chicago
BEGIN:DAYLIGHT
TZOFFSETFROM:-0600
TZOFFSETTO:-0500
TZNAME:CDT
DTSTART:20250309T080000
END:DAYLIGHT
BEGIN:STANDARD
TZOFFSETFROM:-0500
TZOFFSETTO:-0600
TZNAME:CST
DTSTART:20251102T070000
END:STANDARD
BEGIN:DAYLIGHT
TZOFFSETFROM:-0600
TZOFFSETTO:-0500
TZNAME:CDT
DTSTART:20260308T080000
END:DAYLIGHT
BEGIN:STANDARD
TZOFFSETFROM:-0500
TZOFFSETTO:-0600
TZNAME:CST
DTSTART:20261101T070000
END:STANDARD
BEGIN:DAYLIGHT
TZOFFSETFROM:-0600
TZOFFSETTO:-0500
TZNAME:CDT
DTSTART:20270314T080000
END:DAYLIGHT
BEGIN:STANDARD
TZOFFSETFROM:-0500
TZOFFSETTO:-0600
TZNAME:CST
DTSTART:20271107T070000
END:STANDARD
END:VTIMEZONE
BEGIN:VEVENT
DTSTART;VALUE=DATE:20260521
DTEND;VALUE=DATE:20260522
DTSTAMP:20260419T091325
CREATED:20260416T045623Z
LAST-MODIFIED:20260416T045623Z
UID:10001836-1779321600-1779407999@chicagosocialbutterflies.com
SUMMARY:LGBTQ+ Advocacy Day with Equality Illinois
DESCRIPTION:Our community is under attack\, and we need your voice now more than ever. \nAcross the country\, we are seeing the rise in harmful efforts targeting LGBTQ+ people\, including renewed pushes to legitimize and expand so-called “conversion therapy\,” a practice that has been widely discredited and condemned for the lasting harm it causes. These attacks threaten the safety\, dignity\, and well-being of our community\, especially LGBTQ+ youth. \nOn May 21\, 2026\, LGBTQ+ Illinoisans and our allies will come together in Springfield to advance equality and send a clear message to our elected officials: our lives are worth protecting. We must do everything in our power to ensure Illinois remains a true sanctuary for LGBTQ+ people\, a place where everyone can live openly\, safely\, and authentically. \nJoin us and bring your friends. Share this call to action with your networks. Together we can stand strong against hate and work towards a future rooted in dignity\, justice\, and care for all.
URL:https://chicagosocialbutterflies.com/wp-events/lgbtq-advocacy-day-with-equality-illinois/
LOCATION:Illinois State Capitol\, Springfield\, IL\, United States
CATEGORIES:activism,protest
ATTACH;FMTTYPE=image/png:https://chicagosocialbutterflies.com/wp-content/uploads/2026/04/advocacy.png
END:VEVENT
END:VCALENDAR