BEGIN:VCALENDAR
VERSION:2.0
PRODID:-//Chicago Social Butterflies - ECPv6.15.20//NONSGML v1.0//EN
CALSCALE:GREGORIAN
METHOD:PUBLISH
X-WR-CALNAME:Chicago Social Butterflies
X-ORIGINAL-URL:https://chicagosocialbutterflies.com
X-WR-CALDESC:Events for Chicago Social Butterflies
REFRESH-INTERVAL;VALUE=DURATION:PT1H
X-Robots-Tag:noindex
X-PUBLISHED-TTL:PT1H
BEGIN:VTIMEZONE
TZID:America/Chicago
BEGIN:DAYLIGHT
TZOFFSETFROM:-0600
TZOFFSETTO:-0500
TZNAME:CDT
DTSTART:20250309T080000
END:DAYLIGHT
BEGIN:STANDARD
TZOFFSETFROM:-0500
TZOFFSETTO:-0600
TZNAME:CST
DTSTART:20251102T070000
END:STANDARD
BEGIN:DAYLIGHT
TZOFFSETFROM:-0600
TZOFFSETTO:-0500
TZNAME:CDT
DTSTART:20260308T080000
END:DAYLIGHT
BEGIN:STANDARD
TZOFFSETFROM:-0500
TZOFFSETTO:-0600
TZNAME:CST
DTSTART:20261101T070000
END:STANDARD
BEGIN:DAYLIGHT
TZOFFSETFROM:-0600
TZOFFSETTO:-0500
TZNAME:CDT
DTSTART:20270314T080000
END:DAYLIGHT
BEGIN:STANDARD
TZOFFSETFROM:-0500
TZOFFSETTO:-0600
TZNAME:CST
DTSTART:20271107T070000
END:STANDARD
END:VTIMEZONE
BEGIN:VEVENT
DTSTART;TZID=America/Chicago:20260417T173000
DTEND;TZID=America/Chicago:20260417T213000
DTSTAMP:20260420T080131
CREATED:20260416T052223Z
LAST-MODIFIED:20260416T052223Z
UID:10001830-1776447000-1776461400@chicagosocialbutterflies.com
SUMMARY:Violet Surprise Theatre Presents: The Revolutionists
DESCRIPTION:The Grove is proud to bring The Revolutionists to Glenview. This spirited comedic play by Lauren Gunderson shines a spotlight on the bold women of the French Revolution. \nFrench Market • 5:30-7 p.m.\nArrive early to explore the preshow French Market in the East Wing lobby. Sip\, enjoy light bites and browse unique vendors before the show begins. Cash is encouraged for market purchases. \nPerformance • 7-9:00 p.m.\nThen take your seat for The Revolutionists\, a witty and powerful play by Lauren Gunderson\, that invites you to experience history from a female perspective. As the historic home of 1800s actor Flint Kennicott and his brilliant\, educated sisters\, Cora and Alice\, The Grove celebrates stories of courage\, creativity and women who challenged the expectations of their time. Following the performance\, there will be a Q&A with the director and cast.
URL:https://chicagosocialbutterflies.com/wp-events/violet-surprise-theatre-presents-the-revolutionists-8/
LOCATION:Glenview Park Center\, 2400 Chestnut Ave.\, Glenview\, IL\, 60026\, United States
CATEGORIES:theater-performance
ATTACH;FMTTYPE=image/jpeg:https://chicagosocialbutterflies.com/wp-content/uploads/2026/04/655590484_1630224321873234_6110558845996373406_n.jpg
END:VEVENT
END:VCALENDAR