BEGIN:VCALENDAR
VERSION:2.0
PRODID:-//Chicago Social Butterflies - ECPv6.15.20//NONSGML v1.0//EN
CALSCALE:GREGORIAN
METHOD:PUBLISH
X-ORIGINAL-URL:https://chicagosocialbutterflies.com
X-WR-CALDESC:Events for Chicago Social Butterflies
REFRESH-INTERVAL;VALUE=DURATION:PT1H
X-Robots-Tag:noindex
X-PUBLISHED-TTL:PT1H
BEGIN:VTIMEZONE
TZID:America/Chicago
BEGIN:DAYLIGHT
TZOFFSETFROM:-0600
TZOFFSETTO:-0500
TZNAME:CDT
DTSTART:20240310T080000
END:DAYLIGHT
BEGIN:STANDARD
TZOFFSETFROM:-0500
TZOFFSETTO:-0600
TZNAME:CST
DTSTART:20241103T070000
END:STANDARD
BEGIN:DAYLIGHT
TZOFFSETFROM:-0600
TZOFFSETTO:-0500
TZNAME:CDT
DTSTART:20250309T080000
END:DAYLIGHT
BEGIN:STANDARD
TZOFFSETFROM:-0500
TZOFFSETTO:-0600
TZNAME:CST
DTSTART:20251102T070000
END:STANDARD
BEGIN:DAYLIGHT
TZOFFSETFROM:-0600
TZOFFSETTO:-0500
TZNAME:CDT
DTSTART:20260308T080000
END:DAYLIGHT
BEGIN:STANDARD
TZOFFSETFROM:-0500
TZOFFSETTO:-0600
TZNAME:CST
DTSTART:20261101T070000
END:STANDARD
END:VTIMEZONE
BEGIN:VEVENT
DTSTART;TZID=America/Chicago:20250603T173000
DTEND;TZID=America/Chicago:20250603T183000
DTSTAMP:20260422T073830
CREATED:20250521T163726Z
LAST-MODIFIED:20250521T163726Z
UID:10000203-1748971800-1748975400@chicagosocialbutterflies.com
SUMMARY:Against the Current: Parthenogenesis and Nontraditional Reproduction in the Deep
DESCRIPTION:Dive into the wild world of shark genetics with Kevin Feldheim\, the A. Watson III Manager of the Pritzker Laboratory for Molecular Systematics and Evolution at the Field Museum. Since 2001\, Kevin has been unraveling the mysteries of shark mating systems and population dynamics through cutting-edge genetic research. His latest deep-sea adventure? Exploring the fascinating phenomenon of parthenogenesis—a form of asexual reproduction—in sharks and rays. Partnering with aquariums around the country\, he’s investigating how this rare reproductive strategy could shape the future of conservation efforts for these awe-inspiring creatures. Kevin holds degrees from the University of Illinois at Champaign-Urbana and earned his Ph.D. from the University of Illinois at Chicago.
URL:https://chicagosocialbutterflies.com/wp-events/against-the-current-parthenogenesis-and-nontraditional-reproduction-in-the-deep/
LOCATION:Field Museum\, 1400 S. DuSable Lake Shore Dr.\, Chicago\, IL\, 60605\, United States
CATEGORIES:education,panel-conversation
ATTACH;FMTTYPE=image/jpeg:https://chicagosocialbutterflies.com/wp-content/uploads/2025/05/Against-the-Current-Parthenogenesis-Nontraditional-Reproduction-in-the-Deep.jpg
END:VEVENT
END:VCALENDAR