BEGIN:VCALENDAR
VERSION:2.0
PRODID:-//Chicago Social Butterflies - ECPv6.15.20//NONSGML v1.0//EN
CALSCALE:GREGORIAN
METHOD:PUBLISH
X-ORIGINAL-URL:https://chicagosocialbutterflies.com
X-WR-CALDESC:Events for Chicago Social Butterflies
REFRESH-INTERVAL;VALUE=DURATION:PT1H
X-Robots-Tag:noindex
X-PUBLISHED-TTL:PT1H
BEGIN:VTIMEZONE
TZID:America/Chicago
BEGIN:DAYLIGHT
TZOFFSETFROM:-0600
TZOFFSETTO:-0500
TZNAME:CDT
DTSTART:20240310T080000
END:DAYLIGHT
BEGIN:STANDARD
TZOFFSETFROM:-0500
TZOFFSETTO:-0600
TZNAME:CST
DTSTART:20241103T070000
END:STANDARD
BEGIN:DAYLIGHT
TZOFFSETFROM:-0600
TZOFFSETTO:-0500
TZNAME:CDT
DTSTART:20250309T080000
END:DAYLIGHT
BEGIN:STANDARD
TZOFFSETFROM:-0500
TZOFFSETTO:-0600
TZNAME:CST
DTSTART:20251102T070000
END:STANDARD
BEGIN:DAYLIGHT
TZOFFSETFROM:-0600
TZOFFSETTO:-0500
TZNAME:CDT
DTSTART:20260308T080000
END:DAYLIGHT
BEGIN:STANDARD
TZOFFSETFROM:-0500
TZOFFSETTO:-0600
TZNAME:CST
DTSTART:20261101T070000
END:STANDARD
END:VTIMEZONE
BEGIN:VEVENT
DTSTART;TZID=America/Chicago:20251012T193000
DTEND;TZID=America/Chicago:20251012T213000
DTSTAMP:20260420T102837
CREATED:20251009T171225Z
LAST-MODIFIED:20251009T171225Z
UID:10000537-1760297400-1760304600@chicagosocialbutterflies.com
SUMMARY:Composer Showcase Featuring the Ravinia Steans Institute
DESCRIPTION:Ear Taxi Festival is proud to partner with Ravinia’s Steans Institute to present Sabrina Langlois\, soprano\, Joanne Evans\, mezzo-soprano\, and Brent Funderburk\, piano for an evening of freshly composed art songs. Paul Novak’s “youth” sets a text by Chicago-based poet Victoria Flanagan and explores ghosts and haunting as a metaphor for queerness and trauma. Liza Sobel Crane’s work “Worth” focuses on social media and how it affects users’ body image. Bradley Robin’s “bliss” charmingly explores recovering from the loss of innocence when a child’s knowledge of the world is realized. Blair Boyd writes music for a series of poems about a woman who has decided to leave society and be alone.
URL:https://chicagosocialbutterflies.com/wp-events/composer-showcase-featuring-the-ravinia-steans-institute/
LOCATION:Rudolph Ganz Memorial Hall (7th Floor) – Roosevelt University\, 430 S. Michigan Ave.\, Chicago\, IL\, 60605\, United States
CATEGORIES:concert-music
ATTACH;FMTTYPE=image/png:https://chicagosocialbutterflies.com/wp-content/uploads/2025/10/composer.png
END:VEVENT
END:VCALENDAR