BEGIN:VCALENDAR
VERSION:2.0
PRODID:-//Chicago Social Butterflies - ECPv6.15.20//NONSGML v1.0//EN
CALSCALE:GREGORIAN
METHOD:PUBLISH
X-ORIGINAL-URL:https://chicagosocialbutterflies.com
X-WR-CALDESC:Events for Chicago Social Butterflies
REFRESH-INTERVAL;VALUE=DURATION:PT1H
X-Robots-Tag:noindex
X-PUBLISHED-TTL:PT1H
BEGIN:VTIMEZONE
TZID:America/Chicago
BEGIN:DAYLIGHT
TZOFFSETFROM:-0600
TZOFFSETTO:-0500
TZNAME:CDT
DTSTART:20240310T080000
END:DAYLIGHT
BEGIN:STANDARD
TZOFFSETFROM:-0500
TZOFFSETTO:-0600
TZNAME:CST
DTSTART:20241103T070000
END:STANDARD
BEGIN:DAYLIGHT
TZOFFSETFROM:-0600
TZOFFSETTO:-0500
TZNAME:CDT
DTSTART:20250309T080000
END:DAYLIGHT
BEGIN:STANDARD
TZOFFSETFROM:-0500
TZOFFSETTO:-0600
TZNAME:CST
DTSTART:20251102T070000
END:STANDARD
BEGIN:DAYLIGHT
TZOFFSETFROM:-0600
TZOFFSETTO:-0500
TZNAME:CDT
DTSTART:20260308T080000
END:DAYLIGHT
BEGIN:STANDARD
TZOFFSETFROM:-0500
TZOFFSETTO:-0600
TZNAME:CST
DTSTART:20261101T070000
END:STANDARD
END:VTIMEZONE
BEGIN:VEVENT
DTSTART;TZID=America/Chicago:20251120T190000
DTEND;TZID=America/Chicago:20251120T203000
DTSTAMP:20260419T233529
CREATED:20251106T033951Z
LAST-MODIFIED:20251119T230236Z
UID:10000968-1763665200-1763670600@chicagosocialbutterflies.com
SUMMARY:Life is a Queer Cabaret: a night of musical theatre & queer joy
DESCRIPTION:Join us for a cabaret of performers challenging the typical gender roles of musical theatre pieces. Don’t miss this sellout event!\n\n\n\nWithout changing anything in the text itself (pronouns\, description\, action\, etc)\, how does an identity change the way an audience engages with a character? What does it mean for Cabaret’s Emcee to be played by a woman? For Jack Kelly to be queer? For Audrey or Seymour to be played by trans actors? \nIdentities hold significance\, and with a backlog of many cis\, often straight or straight-assumed characters\, there is value in exploring and changing the narrative of musical theatre works. Whether it be for a nuanced dramatic effect or a comedic one\, we want to see musical theatre gender-fuckery (and beyond) at play! \nFEATURING: Essential Invisible\, Wesley Beyers\, Makenna Van Raalte\, Felicia Hinojosa \, Michael Davis Arnold\, Gina Saglimbeni \, Emely Cuestas\, Jacque Bischoff\, Reva Sangal\, Cas Lam & Rogelio Castro. \nDoors at 6pm with a one hour happy hour before the performances begin at 7pm. Dorothy remains open after the show until 11pm. \nTickets are $15 in advance and $20 at the door. \nDorothy is 21+ and requires physical ID for all to enter. Dorothy is also ADA accessible with elevator access on Campbell Ave. If you are a guest who requires elevator access\, please wait by the black door on Campbell Ave with our logo in the window and call our staff to assist: 773-770-3799 \nPlease note: refund requests are only available until 24h before the show (11/19\, 7pm). No other refund requests will be honored.
URL:https://chicagosocialbutterflies.com/wp-events/life-is-a-queer-cabaret-a-night-of-musical-theatre-queer-joy/
LOCATION:Dorothy\, 2500 West Chicago Avenue\, Chicago\, IL\, 60622\, United States
CATEGORIES:cabaret,concert-music,drag,theater-performance
ATTACH;FMTTYPE=image/png:https://chicagosocialbutterflies.com/wp-content/uploads/2025/11/https_3A_2F_2Fcdn.evbuc-2.png
END:VEVENT
BEGIN:VEVENT
DTSTART;TZID=America/Chicago:20251017T210000
DTEND;TZID=America/Chicago:20251018T000000
DTSTAMP:20260419T233529
CREATED:20251009T171346Z
LAST-MODIFIED:20251016T154635Z
UID:10000536-1760734800-1760745600@chicagosocialbutterflies.com
SUMMARY:Sapphic Serenade: Friday Night Feelings
DESCRIPTION:SAPPHIC SERENADE is Dorothy’s queer karaoke night – hosted by our team member and bartender extraordinare\, E! Starting this May we are popping up a second night of karaoke\, hosted on the third Friday of the month from 9pm til 1am. \nDoors open at 6pm with a one hour happy hour! Our $5 karaoke door cover along with karaoke sign ups starts at 8pm and our singing kicks off at 9pm all the way til last call at 1am. \nDorothy is 21+ and requires physical ID for all to enter. Dorothy is also ADA accessible with elevator access on Campbell Ave. If you are a guest who requires elevator access\, please wait by the black door on Campbell Ave with our logo in the window and call our staff to assist: 773-770-3799 \nPhoto of E by Kennedy Cottrell
URL:https://chicagosocialbutterflies.com/wp-events/sapphic-serenade-friday-night-feelings/
LOCATION:Dorothy\, 2500 West Chicago Avenue\, Chicago\, IL\, 60622\, United States
ATTACH;FMTTYPE=image/png:https://chicagosocialbutterflies.com/wp-content/uploads/2025/10/sapphic.png
END:VEVENT
BEGIN:VEVENT
DTSTART;TZID=America/Chicago:20250602T190000
DTEND;TZID=America/Chicago:20250602T203000
DTSTAMP:20260419T233529
CREATED:20250521T163226Z
LAST-MODIFIED:20250521T163226Z
UID:10000202-1748890800-1748896200@chicagosocialbutterflies.com
SUMMARY:Ask Dr. V: Dating Edition
DESCRIPTION:Dr. V is bringing the therapy room to Dorothy! Join us for a night of laughs and tender moments in this “talk show style” format as Dr. V gets real about the world of queer dating. \nCombining their expertise in LGBTQ+ health\, astrology\, and depth psychology\, Dr. V is turning up the mic to normalize your plights\, serve tea\, and provide a space for our community to grapple with the realities of intimacy in 2025. Attendees will have the opportunity to ask questions\, get some love\, and snag a behind-the-scenes glimpse into the world of a queer psychotherapist. \nDoors at 6pm with a one hour happy hour until our show begins at 7pm. Dorothy remains open after the event until 11pm. \nTickets are $12 in advance and $17 at the door.
URL:https://chicagosocialbutterflies.com/wp-events/ask-dr-v-dating-edition/
LOCATION:Dorothy\, 2500 West Chicago Avenue\, Chicago\, IL\, 60622\, United States
CATEGORIES:education,panel-conversation
ATTACH;FMTTYPE=image/jpeg:https://chicagosocialbutterflies.com/wp-content/uploads/2025/05/dorothy-ask-doctor-v.jpg
END:VEVENT
BEGIN:VEVENT
DTSTART;TZID=America/Chicago:20250514T190000
DTEND;TZID=America/Chicago:20250514T203000
DTSTAMP:20260419T233529
CREATED:20250501T031159Z
LAST-MODIFIED:20250508T153345Z
UID:10000123-1747249200-1747254600@chicagosocialbutterflies.com
SUMMARY:Mother! : a night of comedy and revelry
DESCRIPTION:Mother! is a night of comedy and revelry\, exploring what it means to be a queer mother\, to be queer and have a mother\, to discover a part of yourself that just can’t help but mother! \nHosted by the goddess herself\, Femme de Violette\, Mother! will include performances from beloved Chicago comics Sonal Aggarwal\, Dana Kaye\, Carina Magyar and Delilah Orizaba\, with a headlining set by Kris Lantzy and special drag performance by Femme de Violette. Mother! is not to be missed. \nDoors open at 6pm with a one hour happy hour before our show begins at 7pm. Dorothy remains open after the show until last call at 11pm. \nTickets are $12 in advance and $17 at the door. \nDorothy is 21+ and requires physical ID for all to enter. Dorothy is also ADA accessible with elevator access on Campbell Ave. If you are a guest who requires elevator access\, please wait by the black door on Campbell Ave with our logo in the window and call our staff to assist: 773-770-3799
URL:https://chicagosocialbutterflies.com/wp-events/mother-a-night-of-comedy-and-revelry/
LOCATION:Dorothy\, 2500 West Chicago Avenue\, Chicago\, IL\, 60622\, United States
CATEGORIES:comedy
ATTACH;FMTTYPE=image/jpeg:https://chicagosocialbutterflies.com/wp-content/uploads/2025/04/mother-comedy-revelry.jpg
END:VEVENT
END:VCALENDAR