BEGIN:VCALENDAR
VERSION:2.0
PRODID:-//Chicago Social Butterflies - ECPv6.15.20//NONSGML v1.0//EN
CALSCALE:GREGORIAN
METHOD:PUBLISH
X-WR-CALNAME:Chicago Social Butterflies
X-ORIGINAL-URL:https://chicagosocialbutterflies.com
X-WR-CALDESC:Events for Chicago Social Butterflies
REFRESH-INTERVAL;VALUE=DURATION:PT1H
X-Robots-Tag:noindex
X-PUBLISHED-TTL:PT1H
BEGIN:VTIMEZONE
TZID:America/Chicago
BEGIN:DAYLIGHT
TZOFFSETFROM:-0600
TZOFFSETTO:-0500
TZNAME:CDT
DTSTART:20250309T080000
END:DAYLIGHT
BEGIN:STANDARD
TZOFFSETFROM:-0500
TZOFFSETTO:-0600
TZNAME:CST
DTSTART:20251102T070000
END:STANDARD
BEGIN:DAYLIGHT
TZOFFSETFROM:-0600
TZOFFSETTO:-0500
TZNAME:CDT
DTSTART:20260308T080000
END:DAYLIGHT
BEGIN:STANDARD
TZOFFSETFROM:-0500
TZOFFSETTO:-0600
TZNAME:CST
DTSTART:20261101T070000
END:STANDARD
BEGIN:DAYLIGHT
TZOFFSETFROM:-0600
TZOFFSETTO:-0500
TZNAME:CDT
DTSTART:20270314T080000
END:DAYLIGHT
BEGIN:STANDARD
TZOFFSETFROM:-0500
TZOFFSETTO:-0600
TZNAME:CST
DTSTART:20271107T070000
END:STANDARD
END:VTIMEZONE
BEGIN:VEVENT
DTSTART;TZID=America/Chicago:20260508T193000
DTEND;TZID=America/Chicago:20260508T213000
DTSTAMP:20260422T111528
CREATED:20260422T020954Z
LAST-MODIFIED:20260422T020954Z
UID:10001854-1778268600-1778275800@chicagosocialbutterflies.com
SUMMARY:Call Me Elizabeth
DESCRIPTION:“Call Me Elizabeth\,” a one-woman show about the life of Elizabeth Taylor\, will be presented May 8-10 by PrideArts at the Hoover-Leppen Theatre in Center on Halsted. The critically acclaimed production\, written and performed by Kayla Boye and directed by Michael Weber\, returns by popular demand in an expanded two-act version. Through an intimate conversation at the Beverly Hills Hotel\, “Call Me Elizabeth” examines Elizabeth Taylor’s life\, career\, and loves as she grapples with the culture of celebrity and embraces her greatest role as a humanitarian.
URL:https://chicagosocialbutterflies.com/wp-events/call-me-elizabeth/2026-05-08/
LOCATION:Center on Halsted\, 3656 N. Halsted\, Chicago\, IL\, 60613\, United States
CATEGORIES:theater-performance
ATTACH;FMTTYPE=image/png:https://chicagosocialbutterflies.com/wp-content/uploads/2026/04/CALL-ME-ELIZABETH-_PrideArts_2026-1920-x-1080-px.png
END:VEVENT
BEGIN:VEVENT
DTSTART;TZID=America/Chicago:20260509T193000
DTEND;TZID=America/Chicago:20260509T213000
DTSTAMP:20260422T111528
CREATED:20260422T020954Z
LAST-MODIFIED:20260422T020954Z
UID:10001855-1778355000-1778362200@chicagosocialbutterflies.com
SUMMARY:Call Me Elizabeth
DESCRIPTION:“Call Me Elizabeth\,” a one-woman show about the life of Elizabeth Taylor\, will be presented May 8-10 by PrideArts at the Hoover-Leppen Theatre in Center on Halsted. The critically acclaimed production\, written and performed by Kayla Boye and directed by Michael Weber\, returns by popular demand in an expanded two-act version. Through an intimate conversation at the Beverly Hills Hotel\, “Call Me Elizabeth” examines Elizabeth Taylor’s life\, career\, and loves as she grapples with the culture of celebrity and embraces her greatest role as a humanitarian.
URL:https://chicagosocialbutterflies.com/wp-events/call-me-elizabeth/2026-05-09/
LOCATION:Center on Halsted\, 3656 N. Halsted\, Chicago\, IL\, 60613\, United States
CATEGORIES:theater-performance
ATTACH;FMTTYPE=image/png:https://chicagosocialbutterflies.com/wp-content/uploads/2026/04/CALL-ME-ELIZABETH-_PrideArts_2026-1920-x-1080-px.png
END:VEVENT
END:VCALENDAR