BEGIN:VCALENDAR
VERSION:2.0
PRODID:-//Chicago Social Butterflies - ECPv6.15.20//NONSGML v1.0//EN
CALSCALE:GREGORIAN
METHOD:PUBLISH
X-WR-CALNAME:Chicago Social Butterflies
X-ORIGINAL-URL:https://chicagosocialbutterflies.com
X-WR-CALDESC:Events for Chicago Social Butterflies
REFRESH-INTERVAL;VALUE=DURATION:PT1H
X-Robots-Tag:noindex
X-PUBLISHED-TTL:PT1H
BEGIN:VTIMEZONE
TZID:America/Chicago
BEGIN:DAYLIGHT
TZOFFSETFROM:-0600
TZOFFSETTO:-0500
TZNAME:CDT
DTSTART:20250309T080000
END:DAYLIGHT
BEGIN:STANDARD
TZOFFSETFROM:-0500
TZOFFSETTO:-0600
TZNAME:CST
DTSTART:20251102T070000
END:STANDARD
BEGIN:DAYLIGHT
TZOFFSETFROM:-0600
TZOFFSETTO:-0500
TZNAME:CDT
DTSTART:20260308T080000
END:DAYLIGHT
BEGIN:STANDARD
TZOFFSETFROM:-0500
TZOFFSETTO:-0600
TZNAME:CST
DTSTART:20261101T070000
END:STANDARD
BEGIN:DAYLIGHT
TZOFFSETFROM:-0600
TZOFFSETTO:-0500
TZNAME:CDT
DTSTART:20270314T080000
END:DAYLIGHT
BEGIN:STANDARD
TZOFFSETFROM:-0500
TZOFFSETTO:-0600
TZNAME:CST
DTSTART:20271107T070000
END:STANDARD
END:VTIMEZONE
BEGIN:VEVENT
DTSTART;TZID=America/Chicago:20260515T183000
DTEND;TZID=America/Chicago:20260515T223000
DTSTAMP:20260423T052547
CREATED:20260422T204500Z
LAST-MODIFIED:20260422T204500Z
UID:10001860-1778869800-1778884200@chicagosocialbutterflies.com
SUMMARY:Lambda Legal's Bon Foster Civil Rights Celebration
DESCRIPTION:We are thrilled to gather once again for the annual Bon Foster Civil Rights Celebration. Please join us and support our important work to advance equality in the Midwest and across the country. The event will feature an open bar\, gourmet food\, entertainment as well as an insider’s update on the state of the LGBTQ+ movement. \nFounded in 1973\, Lambda Legal is the oldest and largest national legal organization whose mission is to achieve full recognition of the civil rights of LGBTQ+ people and everyone living with HIV through impact litigation\, education\, and public policy work. \nWe never charge our clients for legal representation or advocacy\, nor do we receive any government funding. With your support\, we can keep defending our rights anywhere they are threatened—and write the next chapter of Lambda Legal history together. View our commitment to event safety at www.lambdalegal.org/safespace
URL:https://chicagosocialbutterflies.com/wp-events/lambda-legals-bon-foster-civil-rights-celebration/
LOCATION:Art Institute of Chicago\, 111 South Michigan Avenue\, Chicago\, IL\, 60603\, United States
CATEGORIES:benefit-fundraiser,gala,legal
ATTACH;FMTTYPE=image/jpeg:https://chicagosocialbutterflies.com/wp-content/uploads/2026/04/imgi_4_623b1a9e-390f-11f1-8350-0e69be8cf8ed.jpeg
END:VEVENT
END:VCALENDAR