BEGIN:VCALENDAR
VERSION:2.0
PRODID:-//Chicago Social Butterflies - ECPv6.15.20//NONSGML v1.0//EN
CALSCALE:GREGORIAN
METHOD:PUBLISH
X-WR-CALNAME:Chicago Social Butterflies
X-ORIGINAL-URL:https://chicagosocialbutterflies.com
X-WR-CALDESC:Events for Chicago Social Butterflies
REFRESH-INTERVAL;VALUE=DURATION:PT1H
X-Robots-Tag:noindex
X-PUBLISHED-TTL:PT1H
BEGIN:VTIMEZONE
TZID:America/Chicago
BEGIN:DAYLIGHT
TZOFFSETFROM:-0600
TZOFFSETTO:-0500
TZNAME:CDT
DTSTART:20250309T080000
END:DAYLIGHT
BEGIN:STANDARD
TZOFFSETFROM:-0500
TZOFFSETTO:-0600
TZNAME:CST
DTSTART:20251102T070000
END:STANDARD
BEGIN:DAYLIGHT
TZOFFSETFROM:-0600
TZOFFSETTO:-0500
TZNAME:CDT
DTSTART:20260308T080000
END:DAYLIGHT
BEGIN:STANDARD
TZOFFSETFROM:-0500
TZOFFSETTO:-0600
TZNAME:CST
DTSTART:20261101T070000
END:STANDARD
BEGIN:DAYLIGHT
TZOFFSETFROM:-0600
TZOFFSETTO:-0500
TZNAME:CDT
DTSTART:20270314T080000
END:DAYLIGHT
BEGIN:STANDARD
TZOFFSETFROM:-0500
TZOFFSETTO:-0600
TZNAME:CST
DTSTART:20271107T070000
END:STANDARD
END:VTIMEZONE
BEGIN:VEVENT
DTSTART;VALUE=DATE:20260423
DTEND;VALUE=DATE:20260424
DTSTAMP:20260423T090018
CREATED:20260326T025817Z
LAST-MODIFIED:20260409T062818Z
UID:10001718-1776902400-1776988799@chicagosocialbutterflies.com
SUMMARY:Dining Out for Life Chicago
DESCRIPTION:On Thursday\, April 23\, join Chicago’s restaurant community to ensure people affected by HIV can access essential services. Dine at a participating restaurant on April 23 and a portion of your bill will be donated to Vivent Health + TPAN. If you can’t go out to eat\, you can also order takeout\, purchase a gift card\, or make a donation to Vivent Health + TPAN! \nFor over 35 years\, we have delivered programs and services to people living with HIV. As a community health and wellness organization\, our programs include mental health\, substance abuse treatment\, HIV testing\, a syringe exchange program\, and a drop-in center for LGBTQ+ youth. Vivent Health + TPAN uses an integrated\, personalized approach to care. We provide a comprehensive array of services and programs—whether delivered within our health centers or in collaboration with community partners. Our care model is so effective that 95% of the people served by Vivent Health have achieved viral suppression\, far above the national average of 81%. \nYou can support Vivent Health + TPAN’s mission and clients by participating in Dining Out For Life Chicago on April 23.
URL:https://chicagosocialbutterflies.com/wp-events/dining-out-for-life-chicago/
LOCATION:Various locations
CATEGORIES:benefit-fundraiser,culinary,wellness
ATTACH;FMTTYPE=image/png:https://chicagosocialbutterflies.com/wp-content/uploads/2026/03/dining-scaled.png
END:VEVENT
BEGIN:VEVENT
DTSTART;TZID=America/Chicago:20260423T080000
DTEND;TZID=America/Chicago:20260423T170000
DTSTAMP:20260423T090018
CREATED:20260311T220711Z
LAST-MODIFIED:20260416T045709Z
UID:10001606-1776931200-1776963600@chicagosocialbutterflies.com
SUMMARY:Howard Brown Health Gala - Compass: Navigating Our Future Together
DESCRIPTION:Join Howard Brown Health for an evening of celebration focused on charting a new path forward\, advancing health equity for all and access to high quality affirming care for all of the communities we serve.
URL:https://chicagosocialbutterflies.com/wp-events/howard-brown-health-gala-compass-navigating-our-future-together/
LOCATION:Venue West\, 221 N. Paulina St.\, Chicago\, IL\, 60612\, United States
CATEGORIES:benefit-fundraiser
ATTACH;FMTTYPE=image/png:https://chicagosocialbutterflies.com/wp-content/uploads/2026/03/unnamed-9.png
END:VEVENT
BEGIN:VEVENT
DTSTART;TZID=America/Chicago:20260423T090000
DTEND;TZID=America/Chicago:20260423T170000
DTSTAMP:20260423T090018
CREATED:20260309T183836Z
LAST-MODIFIED:20260309T183836Z
UID:10001584-1776934800-1776963600@chicagosocialbutterflies.com
SUMMARY:BrandSmart 2026
DESCRIPTION:BrandSmart draws more than 300 brand marketers from every industry\, career path and experience level. You’ll be in the room with thought leaders\, CMOs\, CEOs\, marketing directors\, brand leaders\, agency and creative leaders\, nonprofit marketers and entrepreneurs.\nWith built-in networking opportunities throughout the day and a fabulous after-conference happy hour\, you’ll meet and mingle with brand and agency talent from across Chicagoland and across the country.
URL:https://chicagosocialbutterflies.com/wp-events/brandsmart-2026/
LOCATION:City Hall East Entrance\, 838 W Kinzie St\, Chicago\, IL\, United States
CATEGORIES:conference,education
ATTACH;FMTTYPE=image/jpeg:https://chicagosocialbutterflies.com/wp-content/uploads/2026/03/BrandSmart-2026-Chicago.jpg
END:VEVENT
BEGIN:VEVENT
DTSTART;TZID=America/Chicago:20260423T180000
DTEND;TZID=America/Chicago:20260423T210000
DTSTAMP:20260423T090018
CREATED:20260402T130513Z
LAST-MODIFIED:20260409T063706Z
UID:10001731-1776967200-1776978000@chicagosocialbutterflies.com
SUMMARY:Pride in the Pews: Next Chapter Celebration
DESCRIPTION:We want to personally invite you to join us as we celebrate the next chapter of this work — including an exciting organizational transition we can’t wait to share with you. \nAs our reach and responsibility have grown\, the scope of what we’re building has begun to outpace how we’ve traditionally described it. The heart of our mission remains the same — but we’re stepping into a broader\, more expansive season. During our time together\, we’ll share what has brought us to this moment\, what it means for the work going forward\, and how we’re envisioning what comes next. Most importantly\, we want to hear your questions\, reflections\, and insights as we move forward together. \nIt would mean the world to have you in the room as we take this next step.
URL:https://chicagosocialbutterflies.com/wp-events/pride-in-the-pews-next-chapter-celebration/
LOCATION:Gary Comer Youth Center\, 7200 S. Ingleside\, Chicago\, IL\, 60619\, United States
CATEGORIES:spiritual,support-group,wellness
ATTACH;FMTTYPE=image/png:https://chicagosocialbutterflies.com/wp-content/uploads/2026/04/pews.png
END:VEVENT
BEGIN:VEVENT
DTSTART;TZID=America/Chicago:20260423T180000
DTEND;TZID=America/Chicago:20260423T210000
DTSTAMP:20260423T090018
CREATED:20260409T061750Z
LAST-MODIFIED:20260409T061750Z
UID:10001815-1776967200-1776978000@chicagosocialbutterflies.com
SUMMARY:Chicago: Site Tour of Field Studios
DESCRIPTION:Join Build Out Alliance Chicago for an immersive site tour of Fields Studios\, an award-winning project that is redefining the Avondale neighborhood and Chicago’s film industry. This event offers a rare opportunity to hear directly from the Architect of Record and the General Contractor about the entire building lifecycle—from the initial design vision to the intricate realities of completion. This tour is about understanding the collaboration required to deliver world-class acoustic performance and urban adaptability\, all while connecting with a supportive community of queer and ally professionals.
URL:https://chicagosocialbutterflies.com/wp-events/chicago-site-tour-of-field-studios/
LOCATION:Field Studios\, 4120 W. Diversey Ave.\, Chicago\, IL\, 60639\, United States
CATEGORIES:education,exhibit
ATTACH;FMTTYPE=image/png:https://chicagosocialbutterflies.com/wp-content/uploads/2026/04/build.png
END:VEVENT
BEGIN:VEVENT
DTSTART;TZID=America/Chicago:20260423T183000
DTEND;TZID=America/Chicago:20260423T203000
DTSTAMP:20260423T090018
CREATED:20260409T061039Z
LAST-MODIFIED:20260409T061039Z
UID:10001820-1776969000-1776976200@chicagosocialbutterflies.com
SUMMARY:Mixed Media Mark Making
DESCRIPTION:Instructor: Sholo Beverly \nLet go of expectations and experiment with mixed media mark making \n· Participants will use different media and learn various techniques\n· There will be progressive creation of multiple pieces\n· You’ll leave with a finished self-portrait\n· All levels of artistic expertise are welcome \nMaterial list will be supplied after enrollment \nPlease Note: Due to high demand and limited space\, participant cancellations must be made no later than one (1) week prior to the workshop. Workshops may be cancelled by 6311arts if enrollment minimums are not reached. You will be notified at least three (3) days prior to the scheduled start date should cancellation and a full refund become necessary.
URL:https://chicagosocialbutterflies.com/wp-events/mixed-media-mark-making/2026-04-23/
LOCATION:6311arts\, 6311 N Clark Street\, Chicago\, IL\, 60660\, United States
CATEGORIES:workshop
ATTACH;FMTTYPE=image/jpeg:https://chicagosocialbutterflies.com/wp-content/uploads/2026/04/mark-making.jpg
END:VEVENT
BEGIN:VEVENT
DTSTART;TZID=America/Chicago:20260423T190000
DTEND;TZID=America/Chicago:20260423T230000
DTSTAMP:20260423T090018
CREATED:20260409T062448Z
LAST-MODIFIED:20260416T045741Z
UID:10001808-1776970800-1776985200@chicagosocialbutterflies.com
SUMMARY:TAYF: Sahrit Saffron\, an evening of live music\, bellydance\, and a bazaar
DESCRIPTION:TAYF takes the Color Club ballroom on April 23rd for SAHRIT SAFFRON\, an evening of live music and bellydance! \nEvoking the warmth and light of saffron\, this evening blooms from live music by headlining band TAYF into an open dance party hafla and bazaar. Joined by bellydancers Phaedra and Yasmeen\, SAHRIT SAFFRON is an expansive cultural night steeped in SWANA roots and rhythms. \nThe show features TAYF’s classic repertoire of queer maqam and fresh pieces. In the spirit of an evening party\, their live performance weaves TAYF favorites and new songs\, including multiple from late\, great composer Ziad Rahbani\, ever influential in melding tradition with innovation. While rooted in hits from the 70s and 80s\, TAYF sprinkles folkloric mainstays into a curated night of live music and dance for the whole family. \nDoors: 6PM\nMusic by TAYF: 7pm\nDance Party & Bazaar: 9pm \nPresented by BIYA BIYA Productions as one of Color Club’s contributions to CIVL Fest — a citywide celebration of Chicago’s independent venues\, artists\, and neighborhoods.
URL:https://chicagosocialbutterflies.com/wp-events/tayf-sahrit-saffron-an-evening-of-live-music-bellydance-and-a-bazaar/
LOCATION:Color Club\, 4146 North Elston Ave.\, Chicago\, IL\, 60618\, United States
CATEGORIES:culture,dance-dj
ATTACH;FMTTYPE=image/jpeg:https://chicagosocialbutterflies.com/wp-content/uploads/2026/04/DSC09341-2.jpg
END:VEVENT
END:VCALENDAR